BEGIN:VCALENDAR
VERSION:2.0
PRODID:-//Powai Fine Arts - ECPv6.15.20//NONSGML v1.0//EN
CALSCALE:GREGORIAN
METHOD:PUBLISH
X-WR-CALNAME:Powai Fine Arts
X-ORIGINAL-URL:https://www.powaifinearts.org
X-WR-CALDESC:Events for Powai Fine Arts
REFRESH-INTERVAL;VALUE=DURATION:PT1H
X-Robots-Tag:noindex
X-PUBLISHED-TTL:PT1H
BEGIN:VTIMEZONE
TZID:Asia/Kolkata
BEGIN:STANDARD
TZOFFSETFROM:+0530
TZOFFSETTO:+0530
TZNAME:IST
DTSTART:20230101T000000
END:STANDARD
END:VTIMEZONE
BEGIN:VEVENT
DTSTART;TZID=Asia/Kolkata:20241222T093000
DTEND;TZID=Asia/Kolkata:20241222T131500
DTSTAMP:20260424T083133
CREATED:20241206T075538Z
LAST-MODIFIED:20241231T115330Z
UID:1065-1734859800-1734873300@www.powaifinearts.org
SUMMARY:Yuva Sangeetha Utsavam
DESCRIPTION:[su_row][su_column size=”1/2″ center=”no” class=””]https://www.powaifinearts.org/wp-content/uploads/2024/12/Yuva-Sangeet-1.mp4[/su_column]\n[su_column size=”1/2″ center=”no” class=””]https://www.powaifinearts.org/wp-content/uploads/2024/12/Yuva-Sangeet.mp4[/su_column][/su_row]\n[su_row][su_column size=”1/2″ center=”no” class=””][/su_column]\n[su_column size=”1/2″ center=”no” class=””][/su_column][/su_row]
URL:https://www.powaifinearts.org/event/yuva-sangeetha-utsavam/
LOCATION:Chandivali – Mumbai\, Nahar International School Auditorium\, Nahar`s Amrit Shakti Road\, DP Rd Number 2\, Chandivali\, Mumbai\, Maharashtra\, 400072\, India
CATEGORIES:Indian Music
ATTACH;FMTTYPE=image/jpeg:https://www.powaifinearts.org/wp-content/uploads/2024/12/Yuva-Sangeetha-Utsavam.jpeg
ORGANIZER;CN="Powai Fine Arts":MAILTO:powai.finearts@gmail.com
END:VEVENT
END:VCALENDAR