BEGIN:VCALENDAR
VERSION:2.0
PRODID:-//Powai Fine Arts - ECPv6.15.20//NONSGML v1.0//EN
CALSCALE:GREGORIAN
METHOD:PUBLISH
X-WR-CALNAME:Powai Fine Arts
X-ORIGINAL-URL:https://www.powaifinearts.org
X-WR-CALDESC:Events for Powai Fine Arts
REFRESH-INTERVAL;VALUE=DURATION:PT1H
X-Robots-Tag:noindex
X-PUBLISHED-TTL:PT1H
BEGIN:VTIMEZONE
TZID:Asia/Kolkata
BEGIN:STANDARD
TZOFFSETFROM:+0530
TZOFFSETTO:+0530
TZNAME:IST
DTSTART:20230101T000000
END:STANDARD
END:VTIMEZONE
BEGIN:VTIMEZONE
TZID:UTC
BEGIN:STANDARD
TZOFFSETFROM:+0000
TZOFFSETTO:+0000
TZNAME:UTC
DTSTART:20230101T000000
END:STANDARD
END:VTIMEZONE
BEGIN:VEVENT
DTSTART;TZID=Asia/Kolkata:20260110T180000
DTEND;TZID=Asia/Kolkata:20260110T210000
DTSTAMP:20260424T020551
CREATED:20251227T032441Z
LAST-MODIFIED:20251227T032441Z
UID:1273-1768068000-1768078800@www.powaifinearts.org
SUMMARY:Sri Guruguha
DESCRIPTION:
URL:https://www.powaifinearts.org/event/sri-guruguha/
LOCATION:A M Naik School Auditorium\, Saki Vihar Road\, Powai\, Mumbai\, Maharashtra\, 4000072\, India
CATEGORIES:Indian Music
ATTACH;FMTTYPE=image/jpeg:https://www.powaifinearts.org/wp-content/uploads/2025/12/Sri-Guruguha.jpeg
ORGANIZER;CN="Powai Fine Arts":MAILTO:powai.finearts@gmail.com
END:VEVENT
BEGIN:VEVENT
DTSTART;TZID=Asia/Kolkata:20251002T180000
DTEND;TZID=Asia/Kolkata:20251002T210000
DTSTAMP:20260424T020551
CREATED:20251114T140235Z
LAST-MODIFIED:20251114T140235Z
UID:1226-1759428000-1759438800@www.powaifinearts.org
SUMMARY:VIJAYADASHAMI SPECIAL PROGRAM
DESCRIPTION:
URL:https://www.powaifinearts.org/event/vijayadashami-special-program-2/
LOCATION:A M Naik School Auditorium\, Saki Vihar Road\, Powai\, Mumbai\, Maharashtra\, 4000072\, India
CATEGORIES:Indian Dance,Indian Music
ATTACH;FMTTYPE=image/jpeg:https://www.powaifinearts.org/wp-content/uploads/2025/11/Vijayadashami.jpeg
ORGANIZER;CN="Powai Fine Arts":MAILTO:powai.finearts@gmail.com
END:VEVENT
BEGIN:VEVENT
DTSTART;TZID=Asia/Kolkata:20250824T180000
DTEND;TZID=Asia/Kolkata:20250824T210000
DTSTAMP:20260424T020551
CREATED:20250819T163214Z
LAST-MODIFIED:20250825T091803Z
UID:1205-1756058400-1756069200@www.powaifinearts.org
SUMMARY:ABHANGWARI
DESCRIPTION:
URL:https://www.powaifinearts.org/event/abhangwari/
LOCATION:A M Naik School Auditorium\, Saki Vihar Road\, Powai\, Mumbai\, Maharashtra\, 4000072\, India
ATTACH;FMTTYPE=image/jpeg:https://www.powaifinearts.org/wp-content/uploads/2025/08/Vishwajeet.jpeg
ORGANIZER;CN="Powai Fine Arts":MAILTO:powai.finearts@gmail.com
END:VEVENT
BEGIN:VEVENT
DTSTART;TZID=Asia/Kolkata:20250622T180000
DTEND;TZID=Asia/Kolkata:20250622T220000
DTSTAMP:20260424T020551
CREATED:20250603T174818Z
LAST-MODIFIED:20250623T162126Z
UID:1176-1750615200-1750629600@www.powaifinearts.org
SUMMARY:15 years of PFA Celebration Concert Series
DESCRIPTION:
URL:https://www.powaifinearts.org/event/15-years-of-pfa-celebration-concert-series/
LOCATION:A M Naik School Auditorium\, Saki Vihar Road\, Powai\, Mumbai\, Maharashtra\, 4000072\, India
CATEGORIES:Indian Music
ATTACH;FMTTYPE=image/jpeg:https://www.powaifinearts.org/wp-content/uploads/2025/06/PFA-22-June-2025.jpeg
ORGANIZER;CN="Powai Fine Arts":MAILTO:powai.finearts@gmail.com
END:VEVENT
BEGIN:VEVENT
DTSTART;TZID=Asia/Kolkata:20250405T180000
DTEND;TZID=Asia/Kolkata:20250405T180000
DTSTAMP:20260424T020551
CREATED:20250401T095954Z
LAST-MODIFIED:20250407T172510Z
UID:1125-1743876000-1743876000@www.powaifinearts.org
SUMMARY:An Evening of Carnatic Music
DESCRIPTION:
URL:https://www.powaifinearts.org/event/an-evening-of-carnatic-music/
LOCATION:Chandivali – Mumbai\, Nahar International School Auditorium\, Nahar`s Amrit Shakti Road\, DP Rd Number 2\, Chandivali\, Mumbai\, Maharashtra\, 400072\, India
ATTACH;FMTTYPE=image/jpeg:https://www.powaifinearts.org/wp-content/uploads/2025/04/An-Evening-of-Carnatic-Music-1.jpeg
ORGANIZER;CN="Powai Fine Arts":MAILTO:powai.finearts@gmail.com
END:VEVENT
BEGIN:VEVENT
DTSTART;TZID=Asia/Kolkata:20250223T100000
DTEND;TZID=Asia/Kolkata:20250223T140000
DTSTAMP:20260424T020551
CREATED:20250215T123722Z
LAST-MODIFIED:20250215T123722Z
UID:1095-1740304800-1740319200@www.powaifinearts.org
SUMMARY:178 Thyagaraja Aradhana Day
DESCRIPTION:
URL:https://www.powaifinearts.org/event/178-thyagaraja-aradhana-day/
LOCATION:Chandivali – Mumbai\, Nahar International School Auditorium\, Nahar`s Amrit Shakti Road\, DP Rd Number 2\, Chandivali\, Mumbai\, Maharashtra\, 400072\, India
CATEGORIES:Indian Dance,Indian Music
ATTACH;FMTTYPE=image/jpeg:https://www.powaifinearts.org/wp-content/uploads/2025/02/23-Feb-2025.jpeg
ORGANIZER;CN="Powai Fine Arts":MAILTO:powai.finearts@gmail.com
END:VEVENT
BEGIN:VEVENT
DTSTART;TZID=Asia/Kolkata:20241222T093000
DTEND;TZID=Asia/Kolkata:20241222T131500
DTSTAMP:20260424T020551
CREATED:20241206T075538Z
LAST-MODIFIED:20241231T115330Z
UID:1065-1734859800-1734873300@www.powaifinearts.org
SUMMARY:Yuva Sangeetha Utsavam
DESCRIPTION:[su_row][su_column size=”1/2″ center=”no” class=””]https://www.powaifinearts.org/wp-content/uploads/2024/12/Yuva-Sangeet-1.mp4[/su_column]\n[su_column size=”1/2″ center=”no” class=””]https://www.powaifinearts.org/wp-content/uploads/2024/12/Yuva-Sangeet.mp4[/su_column][/su_row]\n[su_row][su_column size=”1/2″ center=”no” class=””][/su_column]\n[su_column size=”1/2″ center=”no” class=””][/su_column][/su_row]
URL:https://www.powaifinearts.org/event/yuva-sangeetha-utsavam/
LOCATION:Chandivali – Mumbai\, Nahar International School Auditorium\, Nahar`s Amrit Shakti Road\, DP Rd Number 2\, Chandivali\, Mumbai\, Maharashtra\, 400072\, India
CATEGORIES:Indian Music
ATTACH;FMTTYPE=image/jpeg:https://www.powaifinearts.org/wp-content/uploads/2024/12/Yuva-Sangeetha-Utsavam.jpeg
ORGANIZER;CN="Powai Fine Arts":MAILTO:powai.finearts@gmail.com
END:VEVENT
BEGIN:VEVENT
DTSTART;TZID=Asia/Kolkata:20241123T180000
DTEND;TZID=Asia/Kolkata:20241123T220000
DTSTAMP:20260424T020551
CREATED:20241024T092607Z
LAST-MODIFIED:20241206T073956Z
UID:1036-1732384800-1732399200@www.powaifinearts.org
SUMMARY:Yuva Nrutya Mahotsavam
DESCRIPTION:
URL:https://www.powaifinearts.org/event/yuva-nrutya-mahotsavam/
LOCATION:Chandivali – Mumbai\, Nahar International School Auditorium\, Nahar`s Amrit Shakti Road\, DP Rd Number 2\, Chandivali\, Mumbai\, Maharashtra\, 400072\, India
CATEGORIES:Indian Dance
ATTACH;FMTTYPE=image/jpeg:https://www.powaifinearts.org/wp-content/uploads/2024/10/Yuva-Nrutya-Mahotsav.jpg
ORGANIZER;CN="Powai Fine Arts":MAILTO:powai.finearts@gmail.com
END:VEVENT
BEGIN:VEVENT
DTSTART;TZID=Asia/Kolkata:20241012T180000
DTEND;TZID=Asia/Kolkata:20241012T213000
DTSTAMP:20260424T020551
CREATED:20240924T044418Z
LAST-MODIFIED:20240924T044418Z
UID:1029-1728756000-1728768600@www.powaifinearts.org
SUMMARY:Vijayadashami Special Program
DESCRIPTION:
URL:https://www.powaifinearts.org/event/vijayadashami-special-program/
LOCATION:Chandivali – Mumbai\, Nahar International School Auditorium\, Nahar`s Amrit Shakti Road\, DP Rd Number 2\, Chandivali\, Mumbai\, Maharashtra\, 400072\, India
CATEGORIES:Indian Dance,Indian Music
ATTACH;FMTTYPE=image/jpeg:https://www.powaifinearts.org/wp-content/uploads/2024/09/IMG-20240922-WA0011.jpg
ORGANIZER;CN="Powai Fine Arts":MAILTO:powai.finearts@gmail.com
END:VEVENT
BEGIN:VEVENT
DTSTART;TZID=Asia/Kolkata:20240818T180000
DTEND;TZID=Asia/Kolkata:20240818T210000
DTSTAMP:20260424T020551
CREATED:20240729T183342Z
LAST-MODIFIED:20240822T083617Z
UID:997-1724004000-1724014800@www.powaifinearts.org
SUMMARY:Hindustani Vocal Concert - "Varsha"
DESCRIPTION:[su_row][su_column size=”1/2″ center=”no” class=””]https://www.powaifinearts.org/wp-content/uploads/2024/07/Concert-Varsha-2.webm[/su_column]\n[su_column size=”1/2″ center=”no” class=””]https://www.powaifinearts.org/wp-content/uploads/2024/07/Concert-Varsha-3-1.webm[/su_column][/su_row][su_row][su_column size=”1/2″ center=”no” class=””]https://www.powaifinearts.org/wp-content/uploads/2024/08/Concert-Varsha-1.webm[/su_column]\n[su_column size=”1/2″ center=”no” class=””][/su_column][/su_row]\n[su_row][su_column size=”1/2″ center=”no” class=””][/su_column]\n[su_column size=”1/2″ center=”no” class=””][/su_column][/su_row]
URL:https://www.powaifinearts.org/event/hindustani-vocal-concert-varsha/
LOCATION:Chandivali – Mumbai\, Nahar International School Auditorium\, Nahar`s Amrit Shakti Road\, DP Rd Number 2\, Chandivali\, Mumbai\, Maharashtra\, 400072\, India
CATEGORIES:Indian Music
ATTACH;FMTTYPE=image/jpeg:https://www.powaifinearts.org/wp-content/uploads/2024/07/event-varsha.jpg
ORGANIZER;CN="Powai Fine Arts":MAILTO:powai.finearts@gmail.com
END:VEVENT
BEGIN:VEVENT
DTSTART;TZID=Asia/Kolkata:20240512T193000
DTEND;TZID=Asia/Kolkata:20240512T213000
DTSTAMP:20260424T020551
CREATED:20240419T181942Z
LAST-MODIFIED:20240516T165948Z
UID:791-1715542200-1715549400@www.powaifinearts.org
SUMMARY:Gems of Lata\, Hemant Kumar\, Manna Dey
DESCRIPTION:[su_row][su_column size=”1/2″ center=”no” class=””]https://www.powaifinearts.org/wp-content/uploads/2024/05/Gems-of-Lata-1.webm[/su_column]\n[su_column size=”1/2″ center=”no” class=””]https://www.powaifinearts.org/wp-content/uploads/2024/05/Gems-of-Lata-2.webm[/su_column][/su_row]\n[su_row][su_column size=”1/2″ center=”no” class=””]https://www.powaifinearts.org/wp-content/uploads/2024/04/Gems-of-Lata-3.webm[/su_column]\n[su_column size=”1/2″ center=”no” class=””]https://www.powaifinearts.org/wp-content/uploads/2024/04/Gems-of-Lata-4.webm[/su_column][/su_row]
URL:https://www.powaifinearts.org/event/gems-of-lata-hemant-kumar-manna-dey/
LOCATION:Dadar\, Veer Savarkar Auditorium Shivaji Park Dadar (W)\,\, Mumbai\, Maharashtra\, 400028\, India
CATEGORIES:Indian Music
ATTACH;FMTTYPE=image/jpeg:https://www.powaifinearts.org/wp-content/uploads/2024/04/gems-of-lata-big.jpg
ORGANIZER;CN="Powai Fine Arts":MAILTO:powai.finearts@gmail.com
END:VEVENT
BEGIN:VEVENT
DTSTART;TZID=UTC:20240410T090000
DTEND;TZID=UTC:20240410T170000
DTSTAMP:20260424T020551
CREATED:20240401T120722Z
LAST-MODIFIED:20240403T061402Z
UID:256-1712739600-1712768400@www.powaifinearts.org
SUMMARY:PFA Mudra Dance Festival 2024
DESCRIPTION:
URL:https://www.powaifinearts.org/event/pfa-mudra-dance-festival-2024/
LOCATION:Powai\, Powai Hiranandani\, Mumbai\, Maharashtra\, 400076\, India
CATEGORIES:Indian Dance
ATTACH;FMTTYPE=image/jpeg:https://www.powaifinearts.org/wp-content/uploads/2024/04/event-img.jpg
ORGANIZER;CN="Powai Fine Arts":MAILTO:powai.finearts@gmail.com
END:VEVENT
BEGIN:VEVENT
DTSTART;TZID=UTC:20240405T090000
DTEND;TZID=UTC:20240405T170000
DTSTAMP:20260424T020551
CREATED:20240401T100551Z
LAST-MODIFIED:20240401T120750Z
UID:221-1712307600-1712336400@www.powaifinearts.org
SUMMARY:Saz-e-Bahar
DESCRIPTION:
URL:https://www.powaifinearts.org/event/saz-e-bahar/
LOCATION:Powai\, Powai Hiranandani\, Mumbai\, Maharashtra\, 400076\, India
CATEGORIES:Indian Music
ATTACH;FMTTYPE=image/jpeg:https://www.powaifinearts.org/wp-content/uploads/2024/04/Indian-Classical-Music.jpg
ORGANIZER;CN="Powai Fine Arts":MAILTO:powai.finearts@gmail.com
END:VEVENT
END:VCALENDAR